BEGIN:VCALENDAR
VERSION:2.0
CALSCALE:GREGORIAN
PRODID:-//Diputació de Barcelona//DibaCMS//EN
BEGIN:VEVENT
UID:23748
DTSTAMP:20260422T235226
DTSTART:20241211T180000
DTEND:20241211T180000
SUMMARY:Racó Jove: La ruleta del 2024
LOCATION:Carrer Francesc Macià, 64 08755 Castellbisbal
METHOD:PUBLISH
X-WR-CALNAME:comunicacio@castellbisbal.cat
X-WR-TIMEZONE:Europe/Madrid
DESCRIPTION:De 18.00 a 19.00 hores, al Racó Jove.

URI:https://www.castellbisbal.cat/actualitat/agenda/raco-jove-la-ruleta-del-2024.html
CLASS:PUBLIC
END:VEVENT
END:VCALENDAR
