BEGIN:VCALENDAR
VERSION:2.0
CALSCALE:GREGORIAN
PRODID:-//Diputació de Barcelona//DibaCMS//EN
BEGIN:VEVENT
UID:23751
DTSTAMP:20260423T045824
DTSTART:20241219T180000
DTEND:20241219T180000
SUMMARY:Racó Jove: Jocs de taula
LOCATION:Carrer Francesc Macià, 64 08755 Castellbisbal
METHOD:PUBLISH
X-WR-CALNAME:comunicacio@castellbisbal.cat
X-WR-TIMEZONE:Europe/Madrid
DESCRIPTION:De 18.00 a 19.00 hores, al Racó Jove.

URI:https://www.castellbisbal.cat/actualitat/agenda/23751-raco-jove-jocs-de-taula.html
CLASS:PUBLIC
END:VEVENT
END:VCALENDAR
