BEGIN:VCALENDAR
VERSION:2.0
CALSCALE:GREGORIAN
PRODID:-//Diputació de Barcelona//DibaCMS//EN
BEGIN:VEVENT
UID:23756
DTSTAMP:20260423T062248
DTSTART:20241217T100000
DTEND:20250110T193000
SUMMARY:Exposició: Mostra anual dels treballs realitzats pels alumnes del taller de dibuix i pintura
LOCATION:Carrer de Sant Joan, 2 08755 Castellbisbal
METHOD:PUBLISH
X-WR-CALNAME:comunicacio@castellbisbal.cat
X-WR-TIMEZONE:Europe/Madrid
DESCRIPTION:Del 17 de desembre al 10 de gener, al Casal de la Gent Gran

URI:https://www.castellbisbal.cat/actualitat/agenda/exposicio-mostra-anual-dels-treballs-realitzats-pels-alumnes-del-taller-de-dibuix-i-pintura.html
CLASS:PUBLIC
END:VEVENT
END:VCALENDAR
