BEGIN:VCALENDAR
VERSION:2.0
CALSCALE:GREGORIAN
PRODID:-//Diputació de Barcelona//DibaCMS//EN
BEGIN:VEVENT
UID:23757
DTSTAMP:20260422T114426
DTSTART:20241214T100000
DTEND:20241214T200000
SUMMARY:Fira de Nadal 
LOCATION:
METHOD:PUBLISH
X-WR-CALNAME:comunicacio@castellbisbal.cat
X-WR-TIMEZONE:Europe/Madrid
DESCRIPTION:De 10.00 a 20.00 hores, a la Plaça de l'Església i carrers adjacents

URI:https://www.castellbisbal.cat/actualitat/agenda/23757-fira-de-nadal-.html
CLASS:PUBLIC
END:VEVENT
END:VCALENDAR
