BEGIN:VCALENDAR
VERSION:2.0
CALSCALE:GREGORIAN
PRODID:-//Diputació de Barcelona//DibaCMS//EN
BEGIN:VEVENT
UID:23784
DTSTAMP:20260422T083506
DTSTART:20241218T083000
DTEND:20241219T183000
SUMMARY:Inscripcions cursos de català. Torn general
LOCATION:Av. de Pau Casals 9 08755 Castellbisbal
METHOD:PUBLISH
X-WR-CALNAME:comunicacio@castellbisbal.cat
X-WR-TIMEZONE:Europe/Madrid
DESCRIPTION:Mati i tarda, a l'Oficina de Català de Castellbisbal

URI:https://www.castellbisbal.cat/actualitat/agenda/23784-inscripcions-cursos-de-catala-torn-general.html
CLASS:PUBLIC
END:VEVENT
END:VCALENDAR
