BEGIN:VCALENDAR
VERSION:2.0
CALSCALE:GREGORIAN
PRODID:-//Diputació de Barcelona//DibaCMS//EN
BEGIN:VEVENT
UID:23790
DTSTAMP:20260422T114508
DTSTART:20250122T110000
DTEND:20250122T110000
SUMMARY:Ofici de Festa Major de Sant Vicenç
LOCATION:Plaça de l'Església 1 08755 Castellbisbal
METHOD:PUBLISH
X-WR-CALNAME:comunicacio@castellbisbal.cat
X-WR-TIMEZONE:Europe/Madrid
DESCRIPTION:El 22 de gener, a les 11.00 hores, a l'Església parroquial de Sant Vicenç

URI:https://www.castellbisbal.cat/actualitat/agenda/festa-major-de-sant-vicenc/23790-ofici-de-festa-major-de-sant-vicenc.html
CLASS:PUBLIC
END:VEVENT
END:VCALENDAR
