BEGIN:VCALENDAR
VERSION:2.0
CALSCALE:GREGORIAN
PRODID:-//Diputació de Barcelona//DibaCMS//EN
BEGIN:VEVENT
UID:23793
DTSTAMP:20260423T141255
DTSTART:20250124T163000
DTEND:20250124T163000
SUMMARY:Tastet de Festa Major
LOCATION:C. de Sant Mateu, 20 08755 Castellbisbal
METHOD:PUBLISH
X-WR-CALNAME:comunicacio@castellbisbal.cat
X-WR-TIMEZONE:Europe/Madrid
DESCRIPTION:El 24 de gener, a les 16.30 hores, a l'Escola Benviure

URI:https://www.castellbisbal.cat/actualitat/agenda/festa-major-de-sant-vicenc/23793-tastet-de-festa-major.html
CLASS:PUBLIC
END:VEVENT
END:VCALENDAR
