BEGIN:VCALENDAR
VERSION:2.0
CALSCALE:GREGORIAN
PRODID:-//Diputació de Barcelona//DibaCMS//EN
BEGIN:VEVENT
UID:23798
DTSTAMP:20260424T225111
DTSTART:20250124T230000
DTEND:20250124T230000
SUMMARY:Nit amb DJ
LOCATION:08755 Castellbisbal
METHOD:PUBLISH
X-WR-CALNAME:comunicacio@castellbisbal.cat
X-WR-TIMEZONE:Europe/Madrid
DESCRIPTION:El 24 de gener, a les 23.00 hores, a la plaça de l'Església

URI:https://www.castellbisbal.cat/actualitat/agenda/festa-major-de-sant-vicenc/23798-nit-amb-dj.html
CLASS:PUBLIC
END:VEVENT
END:VCALENDAR
