BEGIN:VCALENDAR
VERSION:2.0
CALSCALE:GREGORIAN
PRODID:-//Diputació de Barcelona//DibaCMS//EN
BEGIN:VEVENT
UID:23810
DTSTAMP:20260422T130138
DTSTART:20250125T220000
DTEND:20250125T220000
SUMMARY:Correbarttss
LOCATION:08755 Castellbisbal
METHOD:PUBLISH
X-WR-CALNAME:comunicacio@castellbisbal.cat
X-WR-TIMEZONE:Europe/Madrid
DESCRIPTION:El 25 de gener, a les 22.00 hores, itinerant amb inici a la plaça de l'Església

URI:https://www.castellbisbal.cat/actualitat/agenda/festa-major-de-sant-vicenc/correbarttss.html
CLASS:PUBLIC
END:VEVENT
END:VCALENDAR
