BEGIN:VCALENDAR
VERSION:2.0
CALSCALE:GREGORIAN
PRODID:-//Diputació de Barcelona//DibaCMS//EN
BEGIN:VEVENT
UID:23813
DTSTAMP:20260422T034627
DTSTART:20250126T090000
DTEND:20250126T090000
SUMMARY:Torneig de tennis del pernil
LOCATION:C. Agricultura, s/n 08755 Castellbisbal
METHOD:PUBLISH
X-WR-CALNAME:comunicacio@castellbisbal.cat
X-WR-TIMEZONE:Europe/Madrid
DESCRIPTION:El 26 de gener, a les 9.00 hores, a les pistes de tennis de l'Illa Esportiva

URI:https://www.castellbisbal.cat/actualitat/agenda/festa-major-de-sant-vicenc/23813-torneig-de-tennis-del-pernil.html
CLASS:PUBLIC
END:VEVENT
END:VCALENDAR
