BEGIN:VCALENDAR
VERSION:2.0
CALSCALE:GREGORIAN
PRODID:-//Diputació de Barcelona//DibaCMS//EN
BEGIN:VEVENT
UID:23816
DTSTAMP:20260423T050656
DTSTART:20250126T163000
DTEND:20250126T163000
SUMMARY:Torneig d'escacs
LOCATION:Carrer de Sant Joan, 2 08755 Castellbisbal
METHOD:PUBLISH
X-WR-CALNAME:comunicacio@castellbisbal.cat
X-WR-TIMEZONE:Europe/Madrid
DESCRIPTION:El 26 de gener, a les 16.30, al Casal de la Gent Gran

URI:https://www.castellbisbal.cat/actualitat/agenda/festa-major-de-sant-vicenc/torneig-descacs.html
CLASS:PUBLIC
END:VEVENT
END:VCALENDAR
