BEGIN:VCALENDAR
VERSION:2.0
CALSCALE:GREGORIAN
PRODID:-//Diputació de Barcelona//DibaCMS//EN
BEGIN:VEVENT
UID:23820
DTSTAMP:20260424T065059
DTSTART:20241221T170000
DTEND:20241221T170000
SUMMARY:Taller de circ
LOCATION:Parc Folch i Torres 08755 Castellbisbal
METHOD:PUBLISH
X-WR-CALNAME:comunicacio@castellbisbal.cat
X-WR-TIMEZONE:Europe/Madrid
DESCRIPTION:De 17.00 a 21.00 hores, al parc Folch i Torres

URI:https://www.castellbisbal.cat/actualitat/agenda/taller-de-circ.html
CLASS:PUBLIC
END:VEVENT
END:VCALENDAR
