BEGIN:VCALENDAR
VERSION:2.0
CALSCALE:GREGORIAN
PRODID:-//Diputació de Barcelona//DibaCMS//EN
BEGIN:VEVENT
UID:23839
DTSTAMP:20260421T024449
DTSTART:20250111T000000
DTEND:20250111T000000
SUMMARY:Excursió de la Gent Gran: Gran Calçotada a Les Ferreres
LOCATION:
METHOD:PUBLISH
X-WR-CALNAME:comunicacio@castellbisbal.cat
X-WR-TIMEZONE:Europe/Madrid
DESCRIPTION:L'11 de gener, sortida a les 8.00 hores

URI:https://www.castellbisbal.cat/actualitat/agenda/excursio-de-la-gent-gran-gran-calcotada-a-les-ferreres.html
CLASS:PUBLIC
END:VEVENT
END:VCALENDAR
