BEGIN:VCALENDAR
VERSION:2.0
CALSCALE:GREGORIAN
PRODID:-//Diputació de Barcelona//DibaCMS//EN
BEGIN:VEVENT
UID:23877
DTSTAMP:20260423T074743
DTSTART:20250122T190000
DTEND:20250122T190000
SUMMARY:Inauguració de l'exposició "Al Vallès, som gent de vinya!"
LOCATION:Avinguda Pau Casals, 16 08755 Castellbisbal
METHOD:PUBLISH
X-WR-CALNAME:comunicacio@castellbisbal.cat
X-WR-TIMEZONE:Europe/Madrid
DESCRIPTION:El 22 de gener, a les 19.00 hores, a l'Espai Montserrat Roig d'Els Costals

URI:https://www.castellbisbal.cat/actualitat/agenda/festa-major-de-sant-vicenc/inauguracio-de-lexposicio-al-valles-som-gent-de-vinya.html
CLASS:PUBLIC
END:VEVENT
END:VCALENDAR
