BEGIN:VCALENDAR
VERSION:2.0
CALSCALE:GREGORIAN
PRODID:-//Diputació de Barcelona//DibaCMS//EN
BEGIN:VEVENT
UID:23887
DTSTAMP:20260422T100309
DTSTART:20250115T183000
DTEND:20250115T183000
SUMMARY:Racó Jove: Improshow
LOCATION:Carrer Francesc Macià, 64 08755 Castellbisbal
METHOD:PUBLISH
X-WR-CALNAME:comunicacio@castellbisbal.cat
X-WR-TIMEZONE:Europe/Madrid
DESCRIPTION:El 15 de gener, a les 18.30 hores, al Racó Jove

URI:https://www.castellbisbal.cat/actualitat/agenda/raco-jove-improshow.html
CLASS:PUBLIC
END:VEVENT
END:VCALENDAR
