BEGIN:VCALENDAR
VERSION:2.0
CALSCALE:GREGORIAN
PRODID:-//Diputació de Barcelona//DibaCMS//EN
BEGIN:VEVENT
UID:23913
DTSTAMP:20260423T002855
DTSTART:20250209T090000
DTEND:20250209T090000
SUMMARY:15a Cursa de Muntanya de Castellbisbal
LOCATION:Av. de Pau Casals 7 08755 Castellbisbal
METHOD:PUBLISH
X-WR-CALNAME:comunicacio@castellbisbal.cat
X-WR-TIMEZONE:Europe/Madrid
DESCRIPTION:El 9 de febrer, sortida a les 9.00 i a les 10.00 hores, des del Casal Cultural i Recreatiu

URI:https://www.castellbisbal.cat/actualitat/agenda/15a-cursa-de-muntanya-de-castellbisbal.html
CLASS:PUBLIC
END:VEVENT
END:VCALENDAR
