BEGIN:VCALENDAR
VERSION:2.0
CALSCALE:GREGORIAN
PRODID:-//Diputació de Barcelona//DibaCMS//EN
BEGIN:VEVENT
UID:23920
DTSTAMP:20260424T112330
DTSTART:20250202T180000
DTEND:20250202T180000
SUMMARY:Teatre en família: Un vestit per a l'emperador, Cia. La Pera Llimonera
LOCATION:Av. de Pau Casals, 16 08755 Castellbisbal
METHOD:PUBLISH
X-WR-CALNAME:comunicacio@castellbisbal.cat
X-WR-TIMEZONE:Europe/Madrid
DESCRIPTION:A les 18.00 hores, a l'Auditori d'Els Costals

URI:https://www.castellbisbal.cat/actualitat/agenda/teatre-en-familia-un-vestit-per-a-lemperador-cia-la-pera-llimonera.html
CLASS:PUBLIC
END:VEVENT
END:VCALENDAR
