BEGIN:VCALENDAR
VERSION:2.0
CALSCALE:GREGORIAN
PRODID:-//Diputació de Barcelona//DibaCMS//EN
BEGIN:VEVENT
UID:23931
DTSTAMP:20260422T123912
DTSTART:20250322T100000
DTEND:20250322T133000
SUMMARY:Assessorament per l'autoreparació: Petits arranjaments de roba
LOCATION:Pl. Lluís Companys, 2 08755 Castellbisbal
METHOD:PUBLISH
X-WR-CALNAME:comunicacio@castellbisbal.cat
X-WR-TIMEZONE:Europe/Madrid
DESCRIPTION:El 22 de març, de 10.00 a 13.30 hores, al Punt Verd

URI:https://www.castellbisbal.cat/actualitat/agenda/23931-assessorament-per-lautoreparacio-petits-arranjaments-de-roba.html
CLASS:PUBLIC
END:VEVENT
END:VCALENDAR
