BEGIN:VCALENDAR
VERSION:2.0
CALSCALE:GREGORIAN
PRODID:-//Diputació de Barcelona//DibaCMS//EN
BEGIN:VEVENT
UID:23967
DTSTAMP:20260422T180549
DTSTART:20250227T180000
DTEND:20250227T180000
SUMMARY:Racó Jove: Concurs Carnaval
LOCATION:Carrer Francesc Macià, 64 08755 Castellbisbal
METHOD:PUBLISH
X-WR-CALNAME:comunicacio@castellbisbal.cat
X-WR-TIMEZONE:Europe/Madrid
DESCRIPTION:El 27 de febrer, de 18.00 a 19.00 hores, al Racó Jove

URI:https://www.castellbisbal.cat/actualitat/agenda/raco-jove-concurs-carnaval.html
CLASS:PUBLIC
END:VEVENT
END:VCALENDAR
