BEGIN:VCALENDAR
VERSION:2.0
CALSCALE:GREGORIAN
PRODID:-//Diputació de Barcelona//DibaCMS//EN
BEGIN:VEVENT
UID:23968
DTSTAMP:20260422T054012
DTSTART:20250212T183000
DTEND:20250212T183000
SUMMARY:Racó Jove: Els mites de l'amor romàntic
LOCATION:Carrer Francesc Macià, 64 08755 Castellbisbal
METHOD:PUBLISH
X-WR-CALNAME:comunicacio@castellbisbal.cat
X-WR-TIMEZONE:Europe/Madrid
DESCRIPTION:El 12 de febrer, de 18.30 a 19.30 hores, al Racó Jove

URI:https://www.castellbisbal.cat/actualitat/agenda/raco-jove-els-mites-de-lamor-romantic.html
CLASS:PUBLIC
END:VEVENT
END:VCALENDAR
