BEGIN:VCALENDAR
VERSION:2.0
CALSCALE:GREGORIAN
PRODID:-//Diputació de Barcelona//DibaCMS//EN
BEGIN:VEVENT
UID:23969
DTSTAMP:20260423T000953
DTSTART:20250226T183000
DTEND:20250226T183000
SUMMARY:Racó Jove: Rua de personalitats
LOCATION:Carrer Francesc Macià, 64 08755 Castellbisbal
METHOD:PUBLISH
X-WR-CALNAME:comunicacio@castellbisbal.cat
X-WR-TIMEZONE:Europe/Madrid
DESCRIPTION:El 26 de febrer, de 18.30 a 19.30 hores, al Racó Jove

URI:https://www.castellbisbal.cat/actualitat/agenda/raco-jove-rua-de-personalitats.html
CLASS:PUBLIC
END:VEVENT
END:VCALENDAR
