BEGIN:VCALENDAR
VERSION:2.0
CALSCALE:GREGORIAN
PRODID:-//Diputació de Barcelona//DibaCMS//EN
BEGIN:VEVENT
UID:23990
DTSTAMP:20260424T033035
DTSTART:20250220T173000
DTEND:20250220T173000
SUMMARY:Contes menuts: La flor de colors
LOCATION:Av. de Pau Casals, 16 08755 Castellbisbal
METHOD:PUBLISH
X-WR-CALNAME:comunicacio@castellbisbal.cat
X-WR-TIMEZONE:Europe/Madrid
DESCRIPTION:El 20 de febrer, a les 17.30 hores, a la Biblioteca Josep Mateu i Miró

URI:https://www.castellbisbal.cat/actualitat/agenda/biblioteca/contes-menuts-la-flor-de-colors.html
CLASS:PUBLIC
END:VEVENT
END:VCALENDAR
