BEGIN:VCALENDAR
VERSION:2.0
CALSCALE:GREGORIAN
PRODID:-//Diputació de Barcelona//DibaCMS//EN
BEGIN:VEVENT
UID:24008
DTSTAMP:20260422T170820
DTSTART:20250224T164500
DTEND:20250224T164500
SUMMARY:Portes obertes a l'Institut-Escola Les Vinyes
LOCATION:C. Major, 109 08755 Castellbisbal
METHOD:PUBLISH
X-WR-CALNAME:comunicacio@castellbisbal.cat
X-WR-TIMEZONE:Europe/Madrid
DESCRIPTION:Dues sessions: a les 16.45 i a les 18.15 h

URI:https://www.castellbisbal.cat/actualitat/agenda/24008-portes-obertes-a-linstitut-escola-les-vinyes.html
CLASS:PUBLIC
END:VEVENT
END:VCALENDAR
