BEGIN:VCALENDAR
VERSION:2.0
CALSCALE:GREGORIAN
PRODID:-//Diputació de Barcelona//DibaCMS//EN
BEGIN:VEVENT
UID:24010
DTSTAMP:20260424T145049
DTSTART:20250305T093000
DTEND:20250305T093000
SUMMARY:Portes obertes a l'Escola Els Arenys
LOCATION:C. dels Països Catalans, 42 08755 Castellbisbal
METHOD:PUBLISH
X-WR-CALNAME:comunicacio@castellbisbal.cat
X-WR-TIMEZONE:Europe/Madrid
DESCRIPTION:Tres sessions: a les 9.30, 15.10 i a les 16.45

URI:https://www.castellbisbal.cat/actualitat/agenda/24010-portes-obertes-a-lescola-els-arenys.html
CLASS:PUBLIC
END:VEVENT
END:VCALENDAR
