BEGIN:VCALENDAR
VERSION:2.0
CALSCALE:GREGORIAN
PRODID:-//Diputació de Barcelona//DibaCMS//EN
BEGIN:VEVENT
UID:24011
DTSTAMP:20260422T033221
DTSTART:20250306T170000
DTEND:20250306T170000
SUMMARY:Portes obertes a l'Escola Mare de Déu de Montserrat
LOCATION:Av. de Pau Casals, 20 08755 Castellbisbal
METHOD:PUBLISH
X-WR-CALNAME:comunicacio@castellbisbal.cat
X-WR-TIMEZONE:Europe/Madrid
DESCRIPTION:Una sessió: a les 17.00 h

URI:https://www.castellbisbal.cat/actualitat/agenda/24011-portes-obertes-a-lescola-mare-de-deu-de-montserrat.html
CLASS:PUBLIC
END:VEVENT
END:VCALENDAR
