BEGIN:VCALENDAR
VERSION:2.0
CALSCALE:GREGORIAN
PRODID:-//Diputació de Barcelona//DibaCMS//EN
BEGIN:VEVENT
UID:24013
DTSTAMP:20260423T130248
DTSTART:20250310T151500
DTEND:20250310T151500
SUMMARY:Portes obertes a l'Escola Benviure
LOCATION:C. de Sant Mateu, 20 08755 Castellbisbal
METHOD:PUBLISH
X-WR-CALNAME:comunicacio@castellbisbal.cat
X-WR-TIMEZONE:Europe/Madrid
DESCRIPTION:Quatre sessions: a les 15.15, a les 16.45, a les 17.30 i a les 18.15 h

URI:https://www.castellbisbal.cat/actualitat/agenda/24013-portes-obertes-a-lescola-benviure.html
CLASS:PUBLIC
END:VEVENT
END:VCALENDAR
