BEGIN:VCALENDAR
VERSION:2.0
CALSCALE:GREGORIAN
PRODID:-//Diputació de Barcelona//DibaCMS//EN
BEGIN:VEVENT
UID:24014
DTSTAMP:20260423T021111
DTSTART:20250308T100000
DTEND:20250308T100000
SUMMARY:Portes obertes a l'Institut Castellbisbal
LOCATION:Plaça Lluís Companys, 7 08755 Castellbisbal
METHOD:PUBLISH
X-WR-CALNAME:comunicacio@castellbisbal.cat
X-WR-TIMEZONE:Europe/Madrid
DESCRIPTION:Una sessió: a les 10.00 h

URI:https://www.castellbisbal.cat/actualitat/agenda/24014-portes-obertes-a-linstitut-castellbisbal.html
CLASS:PUBLIC
END:VEVENT
END:VCALENDAR
