BEGIN:VCALENDAR
VERSION:2.0
CALSCALE:GREGORIAN
PRODID:-//Diputació de Barcelona//DibaCMS//EN
BEGIN:VEVENT
UID:24015
DTSTAMP:20260422T132520
DTSTART:20250311T173000
DTEND:20250311T173000
SUMMARY:Portes obertes a l'Institut Castellbisbal
LOCATION:Plaça Lluís Companys, 7 08755 Castellbisbal
METHOD:PUBLISH
X-WR-CALNAME:comunicacio@castellbisbal.cat
X-WR-TIMEZONE:Europe/Madrid
DESCRIPTION:Una sessió: a les 17.30 h

URI:https://www.castellbisbal.cat/actualitat/agenda/24015-portes-obertes-a-linstitut-castellbisbal.html
CLASS:PUBLIC
END:VEVENT
END:VCALENDAR
