BEGIN:VCALENDAR
VERSION:2.0
CALSCALE:GREGORIAN
PRODID:-//Diputació de Barcelona//DibaCMS//EN
BEGIN:VEVENT
UID:24018
DTSTAMP:20260422T064232
DTSTART:20250309T180000
DTEND:20250309T180000
SUMMARY:Teatre en família: Aladdin #thePopMusical
LOCATION:Av. de Pau Casals, 16 08755 Castellbisbal
METHOD:PUBLISH
X-WR-CALNAME:comunicacio@castellbisbal.cat
X-WR-TIMEZONE:Europe/Madrid
DESCRIPTION:El 9 de març, a les 18.00 hores a l'Auditori d'Els Costals

URI:https://www.castellbisbal.cat/actualitat/agenda/teatre-en-familia-aladdin-thepopmusical.html
CLASS:PUBLIC
END:VEVENT
END:VCALENDAR
