BEGIN:VCALENDAR
VERSION:2.0
CALSCALE:GREGORIAN
PRODID:-//Diputació de Barcelona//DibaCMS//EN
BEGIN:VEVENT
UID:24021
DTSTAMP:20260422T032130
DTSTART:20250328T200000
DTEND:20250328T200000
SUMMARY:Teatre: Germanes 
LOCATION:Av. de Pau Casals, 16 08755 Castellbisbal
METHOD:PUBLISH
X-WR-CALNAME:comunicacio@castellbisbal.cat
X-WR-TIMEZONE:Europe/Madrid
DESCRIPTION:El 28 de març, a les 20.00 hores, a l'Auditori d'Els Costals

URI:https://www.castellbisbal.cat/actualitat/agenda/teatre-germanes-.html
CLASS:PUBLIC
END:VEVENT
END:VCALENDAR
