BEGIN:VCALENDAR
VERSION:2.0
CALSCALE:GREGORIAN
PRODID:-//Diputació de Barcelona//DibaCMS//EN
BEGIN:VEVENT
UID:24033
DTSTAMP:20260421T151330
DTSTART:20250429T171500
DTEND:20250429T171500
SUMMARY:Concerts de Primavera
LOCATION:Av. de Pau Casals, 16 08755 Castellbisbal
METHOD:PUBLISH
X-WR-CALNAME:comunicacio@castellbisbal.cat
X-WR-TIMEZONE:Europe/Madrid
DESCRIPTION:El 29 d'abril, a les 17.15 i les 19.15, a l'Auditori d'Els Costals

URI:https://www.castellbisbal.cat/actualitat/agenda/24033-concerts-de-primavera.html
CLASS:PUBLIC
END:VEVENT
END:VCALENDAR
