BEGIN:VCALENDAR
VERSION:2.0
CALSCALE:GREGORIAN
PRODID:-//Diputació de Barcelona//DibaCMS//EN
BEGIN:VEVENT
UID:24053
DTSTAMP:20260422T071524
DTSTART:20250227T183000
DTEND:20250227T183000
SUMMARY:L'arribada i pregó del rei Carnestoltes
LOCATION:08755 Castellbisbal
METHOD:PUBLISH
X-WR-CALNAME:comunicacio@castellbisbal.cat
X-WR-TIMEZONE:Europe/Madrid
DESCRIPTION:El 27 de febrer, a les 18.30 hores, a la Plaça de l'Església

URI:https://www.castellbisbal.cat/actualitat/agenda/24053-larribada-i-prego-del-rei-carnestoltes.html
CLASS:PUBLIC
END:VEVENT
END:VCALENDAR
