BEGIN:VCALENDAR
VERSION:2.0
CALSCALE:GREGORIAN
PRODID:-//Diputació de Barcelona//DibaCMS//EN
BEGIN:VEVENT
UID:24059
DTSTAMP:20260423T174212
DTSTART:20250305T183000
DTEND:20250305T183000
SUMMARY:Gala de lliurament dels premis del Carnestoltes
LOCATION:Av. de Pau Casals, 16 08755 Castellbisbal
METHOD:PUBLISH
X-WR-CALNAME:comunicacio@castellbisbal.cat
X-WR-TIMEZONE:Europe/Madrid
DESCRIPTION:El 5 de març, a les 18.30 hores, a l'espai polivalent d'Els Costals (antiga sala d'exposicions)

URI:https://www.castellbisbal.cat/actualitat/agenda/gala-de-lliurament-dels-premis-del-carnestoltes.html
CLASS:PUBLIC
END:VEVENT
END:VCALENDAR
