BEGIN:VCALENDAR
VERSION:2.0
CALSCALE:GREGORIAN
PRODID:-//Diputació de Barcelona//DibaCMS//EN
BEGIN:VEVENT
UID:24062
DTSTAMP:20260422T133620
DTSTART:20250330T070000
DTEND:20250330T070000
SUMMARY:12a Travessa diürna: Castellbisbal - Montserrat a peu
LOCATION:08755 Castellbisbal
METHOD:PUBLISH
X-WR-CALNAME:comunicacio@castellbisbal.cat
X-WR-TIMEZONE:Europe/Madrid
DESCRIPTION:El 30 de març, sortida a les 7.00 hores de la Plaça de l'Església

URI:https://www.castellbisbal.cat/actualitat/agenda/12a-travessa-diurna-castellbisbal-montserrat-a-peu.html
CLASS:PUBLIC
END:VEVENT
END:VCALENDAR
