BEGIN:VCALENDAR
VERSION:2.0
CALSCALE:GREGORIAN
PRODID:-//Diputació de Barcelona//DibaCMS//EN
BEGIN:VEVENT
UID:24065
DTSTAMP:20260422T212953
DTSTART:20250306T180000
DTEND:20250306T180000
SUMMARY:Taller: Party anti-rols
LOCATION:Carrer Francesc Macià, 64 08755 Castellbisbal
METHOD:PUBLISH
X-WR-CALNAME:comunicacio@castellbisbal.cat
X-WR-TIMEZONE:Europe/Madrid
DESCRIPTION:El 6 de març, a les 18.00 hores, al Racó Jove

URI:https://www.castellbisbal.cat/actualitat/agenda/taller-party-anti-rols.html
CLASS:PUBLIC
END:VEVENT
END:VCALENDAR
