BEGIN:VCALENDAR
VERSION:2.0
CALSCALE:GREGORIAN
PRODID:-//Diputació de Barcelona//DibaCMS//EN
BEGIN:VEVENT
UID:24067
DTSTAMP:20260422T083428
DTSTART:20250307T190000
DTEND:20250307T190000
SUMMARY:Taller: Dona i esport
LOCATION:Av. de Pau Casals, 9 08755 Castellbisbal
METHOD:PUBLISH
X-WR-CALNAME:comunicacio@castellbisbal.cat
X-WR-TIMEZONE:Europe/Madrid
DESCRIPTION:El 7 de març, a les 19.00 hores, a la sala d'actes de l'Ajuntament

URI:https://www.castellbisbal.cat/actualitat/agenda/taller-dona-i-esport.html
CLASS:PUBLIC
END:VEVENT
END:VCALENDAR
