BEGIN:VCALENDAR
VERSION:2.0
CALSCALE:GREGORIAN
PRODID:-//Diputació de Barcelona//DibaCMS//EN
BEGIN:VEVENT
UID:24068
DTSTAMP:20260422T052059
DTSTART:20250308T100000
DTEND:20250308T100000
SUMMARY:Taller: Creació de joies amb resina
LOCATION:Avinguda de Pau Casals, 9 08755 Castellbisbal
METHOD:PUBLISH
X-WR-CALNAME:comunicacio@castellbisbal.cat
X-WR-TIMEZONE:Europe/Madrid
DESCRIPTION:El 8 de març, a les 10.00 hores, al pati Adjutori Segarra de l'Ajuntament

URI:https://www.castellbisbal.cat/actualitat/agenda/taller-creacio-de-joies-amb-resina.html
CLASS:PUBLIC
END:VEVENT
END:VCALENDAR
