BEGIN:VCALENDAR
VERSION:2.0
CALSCALE:GREGORIAN
PRODID:-//Diputació de Barcelona//DibaCMS//EN
BEGIN:VEVENT
UID:24070
DTSTAMP:20260423T230809
DTSTART:20250308T103000
DTEND:20250308T103000
SUMMARY:Taller: Creació d'un coixí d'agulles
LOCATION:Avinguda de Pau Casals, 9 08755 Castellbisbal
METHOD:PUBLISH
X-WR-CALNAME:comunicacio@castellbisbal.cat
X-WR-TIMEZONE:Europe/Madrid
DESCRIPTION:El 8 de març, a les 10.30 hores, al pati Adjutori Segarra de l'Ajuntament

URI:https://www.castellbisbal.cat/actualitat/agenda/taller-creacio-dun-coixi-dagulles.html
CLASS:PUBLIC
END:VEVENT
END:VCALENDAR
