BEGIN:VCALENDAR
VERSION:2.0
CALSCALE:GREGORIAN
PRODID:-//Diputació de Barcelona//DibaCMS//EN
BEGIN:VEVENT
UID:24071
DTSTAMP:20260422T003748
DTSTART:20250308T110000
DTEND:20250308T110000
SUMMARY:Taller: Treballs manuals amb paper
LOCATION:Avinguda de Pau Casals, 9 08755 Castellbisbal
METHOD:PUBLISH
X-WR-CALNAME:comunicacio@castellbisbal.cat
X-WR-TIMEZONE:Europe/Madrid
DESCRIPTION:El 8 de març, a les 11.00 hores, al pati Adjutori Segarra de l'Ajuntament

URI:https://www.castellbisbal.cat/actualitat/agenda/taller-treballs-manuals-amb-paper.html
CLASS:PUBLIC
END:VEVENT
END:VCALENDAR
