BEGIN:VCALENDAR
VERSION:2.0
CALSCALE:GREGORIAN
PRODID:-//Diputació de Barcelona//DibaCMS//EN
BEGIN:VEVENT
UID:24072
DTSTAMP:20260422T163855
DTSTART:20250308T113000
DTEND:20250308T113000
SUMMARY:Lectura del manifest del 8M
LOCATION:Avinguda de Pau Casals, 9 08755 Castellbisbal
METHOD:PUBLISH
X-WR-CALNAME:comunicacio@castellbisbal.cat
X-WR-TIMEZONE:Europe/Madrid
DESCRIPTION:El 8 de març, a les 11.30 hores, al pati Adjutori Segarra de l'Ajuntament

URI:https://www.castellbisbal.cat/actualitat/agenda/24072-lectura-del-manifest-del-8m.html
CLASS:PUBLIC
END:VEVENT
END:VCALENDAR
