BEGIN:VCALENDAR
VERSION:2.0
CALSCALE:GREGORIAN
PRODID:-//Diputació de Barcelona//DibaCMS//EN
BEGIN:VEVENT
UID:24074
DTSTAMP:20260422T020712
DTSTART:20250309T110000
DTEND:20250309T110000
SUMMARY:Taller: Hipopressius i entrenament de la faixa abdominal
LOCATION:C. Agricultura, s/n 08755 Castellbisbal
METHOD:PUBLISH
X-WR-CALNAME:comunicacio@castellbisbal.cat
X-WR-TIMEZONE:Europe/Madrid
DESCRIPTION:El 9 de març, a les 11.00 hores, a l'Illa Esportiva

URI:https://www.castellbisbal.cat/actualitat/agenda/taller-hipopressius-i-entrenament-de-la-faixa-abdominal.html
CLASS:PUBLIC
END:VEVENT
END:VCALENDAR
