BEGIN:VCALENDAR
VERSION:2.0
CALSCALE:GREGORIAN
PRODID:-//Diputació de Barcelona//DibaCMS//EN
BEGIN:VEVENT
UID:24075
DTSTAMP:20260423T055829
DTSTART:20250310T173000
DTEND:20250310T173000
SUMMARY:Taller: Ioga en cadira
LOCATION:C. dels Esports 08755 Castellbisbal
METHOD:PUBLISH
X-WR-CALNAME:comunicacio@castellbisbal.cat
X-WR-TIMEZONE:Europe/Madrid
DESCRIPTION:El 10 de març, a les 17.30 hores, a la gespa de la piscina d'estiu

URI:https://www.castellbisbal.cat/actualitat/agenda/taller-ioga-en-cadira.html
CLASS:PUBLIC
END:VEVENT
END:VCALENDAR
