BEGIN:VCALENDAR
VERSION:2.0
CALSCALE:GREGORIAN
PRODID:-//Diputació de Barcelona//DibaCMS//EN
BEGIN:VEVENT
UID:24076
DTSTAMP:20260422T150339
DTSTART:20250305T163000
DTEND:20250305T163000
SUMMARY:Berenar de Dimecres de Cendra
LOCATION:Carrer de Sant Joan, 2 08755 Castellbisbal
METHOD:PUBLISH
X-WR-CALNAME:comunicacio@castellbisbal.cat
X-WR-TIMEZONE:Europe/Madrid
DESCRIPTION:El 5 de març, a les 16.30 hores, al Casal de la Gent Gran

URI:https://www.castellbisbal.cat/actualitat/agenda/24076-berenar-de-dimecres-de-cendra.html
CLASS:PUBLIC
END:VEVENT
END:VCALENDAR
