BEGIN:VCALENDAR
VERSION:2.0
CALSCALE:GREGORIAN
PRODID:-//Diputació de Barcelona//DibaCMS//EN
BEGIN:VEVENT
UID:24078
DTSTAMP:20260422T033132
DTSTART:20250309T113000
DTEND:20250309T113000
SUMMARY:Jugateca Ambiental: El calendari de pagès
LOCATION:Parc de l'Ermita 08755 Castellbisbal
METHOD:PUBLISH
X-WR-CALNAME:comunicacio@castellbisbal.cat
X-WR-TIMEZONE:Europe/Madrid
DESCRIPTION:El 9 de març, a les 11.30 hores, al Parc de l'Ermita.

URI:https://www.castellbisbal.cat/actualitat/agenda/jugateca-ambiental-el-calendari-de-pages.html
CLASS:PUBLIC
END:VEVENT
END:VCALENDAR
