BEGIN:VCALENDAR
VERSION:2.0
CALSCALE:GREGORIAN
PRODID:-//Diputació de Barcelona//DibaCMS//EN
BEGIN:VEVENT
UID:24084
DTSTAMP:20260421T122031
DTSTART:20250427T113000
DTEND:20250427T113000
SUMMARY:Jugateca Ambiental: El dia de les papallones. El color del bosc
LOCATION:Parc de l'Ermita 08755 Castellbisbal
METHOD:PUBLISH
X-WR-CALNAME:comunicacio@castellbisbal.cat
X-WR-TIMEZONE:Europe/Madrid
DESCRIPTION:El 27 d'abril, a les 11.30 hores, al Parc de l'Ermita.

URI:https://www.castellbisbal.cat/actualitat/agenda/jugateca-ambiental-el-dia-de-les-papallones-el-color-del-bosc.html
CLASS:PUBLIC
END:VEVENT
END:VCALENDAR
