BEGIN:VCALENDAR
VERSION:2.0
CALSCALE:GREGORIAN
PRODID:-//Diputació de Barcelona//DibaCMS//EN
BEGIN:VEVENT
UID:24085
DTSTAMP:20260421T110222
DTSTART:20250504T113000
DTEND:20250504T113000
SUMMARY:Jugatecambiental: La festa del parc
LOCATION:Parc de l'Ermita 08755 Castellbisbal
METHOD:PUBLISH
X-WR-CALNAME:comunicacio@castellbisbal.cat
X-WR-TIMEZONE:Europe/Madrid
DESCRIPTION:El 4 de maig, a les 11.30 hores, al Parc de l'Ermita.

URI:https://www.castellbisbal.cat/actualitat/agenda/jugatecambiental-la-festa-del-parc.html
CLASS:PUBLIC
END:VEVENT
END:VCALENDAR
