BEGIN:VCALENDAR
VERSION:2.0
CALSCALE:GREGORIAN
PRODID:-//Diputació de Barcelona//DibaCMS//EN
BEGIN:VEVENT
UID:24117
DTSTAMP:20260424T180613
DTSTART:20250310T120000
DTEND:20250310T120000
SUMMARY:Sessió formativa: Mobilitat elèctrica compartida i compra agregada d'energia
LOCATION:Avinguda de Pau Casals, 9 08755 Castellbisbal
METHOD:PUBLISH
X-WR-CALNAME:comunicacio@castellbisbal.cat
X-WR-TIMEZONE:Europe/Madrid
DESCRIPTION:El 10 de març, a les 12.00 hores, a la sala de plens de l'Ajuntament

URI:https://www.castellbisbal.cat/actualitat/agenda/sessio-formativa-mobilitat-electrica-compartida-i-compra-agregada-denergia.html
CLASS:PUBLIC
END:VEVENT
END:VCALENDAR
