BEGIN:VCALENDAR
VERSION:2.0
CALSCALE:GREGORIAN
PRODID:-//Diputació de Barcelona//DibaCMS//EN
BEGIN:VEVENT
UID:24119
DTSTAMP:20260422T070957
DTSTART:20250329T120000
DTEND:20250329T120000
SUMMARY:Hora del conte: Contes de Hans Christian Andersen
LOCATION:Av. de Pau Casals, 16 08755 Castellbisbal
METHOD:PUBLISH
X-WR-CALNAME:comunicacio@castellbisbal.cat
X-WR-TIMEZONE:Europe/Madrid
DESCRIPTION:El 29 de març, a les 12.00 hores, a la Biblioteca Josep Mateu i Miró

URI:https://www.castellbisbal.cat/actualitat/agenda/biblioteca/hora-del-conte-contes-de-hans-christian-andersen.html
CLASS:PUBLIC
END:VEVENT
END:VCALENDAR
