BEGIN:VCALENDAR
VERSION:2.0
CALSCALE:GREGORIAN
PRODID:-//Diputació de Barcelona//DibaCMS//EN
BEGIN:VEVENT
UID:24141
DTSTAMP:20260422T095403
DTSTART:20250320T180000
DTEND:20250320T180000
SUMMARY:Racó Jove: Tarda de jocs
LOCATION:Carrer Francesc Macià, 64 08755 Castellbisbal
METHOD:PUBLISH
X-WR-CALNAME:comunicacio@castellbisbal.cat
X-WR-TIMEZONE:Europe/Madrid
DESCRIPTION:El 20 de març, de 18.00 a 19.00 hores, al Racó Jove

URI:https://www.castellbisbal.cat/actualitat/agenda/raco-jove-tarda-de-jocs.html
CLASS:PUBLIC
END:VEVENT
END:VCALENDAR
