BEGIN:VCALENDAR
VERSION:2.0
CALSCALE:GREGORIAN
PRODID:-//Diputació de Barcelona//DibaCMS//EN
BEGIN:VEVENT
UID:24143
DTSTAMP:20260423T161230
DTSTART:20250323T100000
DTEND:20250323T100000
SUMMARY:Festa de l'arbre i la biodiversitat
LOCATION:Països Catalans, 30 08755 Castellbisbal
METHOD:PUBLISH
X-WR-CALNAME:comunicacio@castellbisbal.cat
X-WR-TIMEZONE:Europe/Madrid
DESCRIPTION:El 23 de març, a les 10.00 hores, al parc de les Destreses.

URI:https://www.castellbisbal.cat/actualitat/agenda/24143-festa-de-larbre-i-la-biodiversitat.html
CLASS:PUBLIC
END:VEVENT
END:VCALENDAR
